BEGIN:VCALENDAR
VERSION:2.0
PRODID:-//Contractors Helping Kids&#039; Site - ECPv6.6.0.2//NONSGML v1.0//EN
CALSCALE:GREGORIAN
METHOD:PUBLISH
X-ORIGINAL-URL:https://chkidstx.com
X-WR-CALDESC:Events for Contractors Helping Kids&#039; Site
REFRESH-INTERVAL;VALUE=DURATION:PT1H
X-Robots-Tag:noindex
X-PUBLISHED-TTL:PT1H
BEGIN:VTIMEZONE
TZID:UTC
BEGIN:STANDARD
TZOFFSETFROM:+0000
TZOFFSETTO:+0000
TZNAME:UTC
DTSTART:20250101T000000
END:STANDARD
END:VTIMEZONE
BEGIN:VEVENT
DTSTART;TZID=UTC:20250517T183000
DTEND;TZID=UTC:20250517T223000
DTSTAMP:20260425T234457
CREATED:20250307T182212Z
LAST-MODIFIED:20250307T190917Z
UID:912-1747506600-1747521000@chkidstx.com
SUMMARY:Contractor’s Helping Kids Casino Night Fundraiser
DESCRIPTION:This fundraiser is all about giving Texas kiddos a fighting chance! We’re talking food\, shoes\, jackets\, clothes\, and hygiene products—because everyone deserves the essentials! But wait\, there’s more! We also provide comfy beds and bedding\, medical care financial support and educational aid like computers and school supplies. Plus\, we’re transforming rooms for kids who’ve faced abuse. Every little bit helps\, and we’re super grateful for your support—let’s make magic happen! \nThe cost for this event is…… \n$130 Per Person which includes 1\,000 in playing chips\, dinner\, and drinks. \n$250 Per Couple which includes admission for two\, 1\,000 Chips Each 2\,000 in playing chips total\, dinner\, and drinks. \n$1100 Table Sponsorship which includes seating for eight plus company recognition\, playing chips\, dinner\, and drinks. \nRaffle Item Donor: Please reach out via email at info@chkidstx.com or call 830-885-5437. \nThe sponsor’s logo will be showcased at the event and Opportunity to provide promotional items for swag bags \n  \nFor More Information Contact: \nMelissa Odom \ninfo@chkidstx.com \n(830) 885-KIDS (5437) \n\nTo Purchase Tickets use the link below:\nhttps://www.eventbrite.com/e/850053291277?aff=oddtdtcreator \n 
URL:https://chkidstx.com/event/contractors-helping-kids-casino-night-2025/
LOCATION:Mckenna Childrens Museum\, 801 W San Antonio St.\, New Braunfels\, TX\, 78130\, United States
ATTACH;FMTTYPE=image/jpeg:https://chkidstx.com/wp-content/uploads/2025/03/Casino-Night-Flyer-2025-2-scaled.jpg
ORGANIZER;CN="Contractors Helping Kids":MAILTO:info@chkidstx.com
END:VEVENT
END:VCALENDAR